BEGIN:VCALENDAR
VERSION:2.0
PRODID:-//Soulspace Yoga and Wellness - ECPv4.9.9//NONSGML v1.0//EN
CALSCALE:GREGORIAN
METHOD:PUBLISH
X-WR-CALNAME:Soulspace Yoga and Wellness
X-ORIGINAL-URL:https://www.yogasouthington.com
X-WR-CALDESC:Events for Soulspace Yoga and Wellness
BEGIN:VTIMEZONE
TZID:America/New_York
BEGIN:DAYLIGHT
TZOFFSETFROM:-0500
TZOFFSETTO:-0400
TZNAME:EDT
DTSTART:20240310T070000
END:DAYLIGHT
BEGIN:STANDARD
TZOFFSETFROM:-0400
TZOFFSETTO:-0500
TZNAME:EST
DTSTART:20241103T060000
END:STANDARD
END:VTIMEZONE
BEGIN:VEVENT
DTSTART;TZID=America/New_York:20240724T100000
DTEND;TZID=America/New_York:20240724T104500
DTSTAMP:20260423T111005
CREATED:20240706T194242Z
LAST-MODIFIED:20240706T194242Z
UID:24624-1721815200-1721817900@www.yogasouthington.com
SUMMARY:Postpartum Yoga with Molly 10am-10:45am
DESCRIPTION:Molly Weyers  ** pre-registration required **\nEmail me at: peacefulandprenatal@gmail.com.   To register for classes please visit my website: www.peacefulandprenatal.com \n
URL:https://www.yogasouthington.com/event/postpartum-yoga-with-molly-10am-1045am-21/
LOCATION:Soulspace
END:VEVENT
BEGIN:VEVENT
DTSTART;TZID=America/New_York:20240724T163000
DTEND;TZID=America/New_York:20240724T174500
DTSTAMP:20260423T111005
CREATED:20240706T191835Z
LAST-MODIFIED:20240706T191835Z
UID:24578-1721838600-1721843100@www.yogasouthington.com
SUMMARY:Chakra Flow (All Levels) with Brandi 4:30pm-5:45pm
DESCRIPTION:Brandi Kilbourne **drop ins welcome**                                                                                                                                                                                                    Email me at:  yourcoach@fitnulife.com  Text my Google voice # 347-619-3698  My website:  https://www.infinitegrowthclub.com \n
URL:https://www.yogasouthington.com/event/chakra-flow-all-levels-with-brandi-430pm-545pm-14/
LOCATION:Soulspace
END:VEVENT
END:VCALENDAR