BEGIN:VCALENDAR
VERSION:2.0
PRODID:-//Soulspace Yoga and Wellness - ECPv4.9.9//NONSGML v1.0//EN
CALSCALE:GREGORIAN
METHOD:PUBLISH
X-WR-CALNAME:Soulspace Yoga and Wellness
X-ORIGINAL-URL:https://www.yogasouthington.com
X-WR-CALDESC:Events for Soulspace Yoga and Wellness
BEGIN:VTIMEZONE
TZID:America/New_York
BEGIN:DAYLIGHT
TZOFFSETFROM:-0500
TZOFFSETTO:-0400
TZNAME:EDT
DTSTART:20240310T070000
END:DAYLIGHT
BEGIN:STANDARD
TZOFFSETFROM:-0400
TZOFFSETTO:-0500
TZNAME:EST
DTSTART:20241103T060000
END:STANDARD
END:VTIMEZONE
BEGIN:VEVENT
DTSTART;TZID=America/New_York:20240709T093000
DTEND;TZID=America/New_York:20240709T104500
DTSTAMP:20260423T111159
CREATED:20240706T192310Z
LAST-MODIFIED:20240706T192310Z
UID:24582-1720517400-1720521900@www.yogasouthington.com
SUMMARY:Yoga for Back Health with Sheila 9:30am-10:45am
DESCRIPTION:Sheila Huard ** pre registration required **\nEmail me at:   The Natural Path\, southingtonyoga@yahoo.com   Phone: (860) 384-2840  For more information southingtonyoga.com/in-person-yoga-classes   (Six week session $75… includes tax. ) \n
URL:https://www.yogasouthington.com/event/yoga-for-back-health-with-sheila-930am-1045am-34/
LOCATION:Soulspace
END:VEVENT
BEGIN:VEVENT
DTSTART;TZID=America/New_York:20240709T110000
DTEND;TZID=America/New_York:20240709T121500
DTSTAMP:20260423T111159
CREATED:20240706T190249Z
LAST-MODIFIED:20240706T190332Z
UID:24549-1720522800-1720527300@www.yogasouthington.com
SUMMARY:Gentle with Phyllis 11am-12:15pm
DESCRIPTION:Phyllis Powers ** drop ins  welcome…ask about a five class special **\nEmail me at:   peacefulyogacommunity@gmail.com   ($15 per class\, includes tax) \n
URL:https://www.yogasouthington.com/event/gentle-with-phyllis-11am-1215pm-17/
LOCATION:Soulspace
END:VEVENT
END:VCALENDAR