BEGIN:VCALENDAR
VERSION:2.0
PRODID:-//Soulspace Yoga and Wellness - ECPv4.9.9//NONSGML v1.0//EN
CALSCALE:GREGORIAN
METHOD:PUBLISH
X-WR-CALNAME:Soulspace Yoga and Wellness
X-ORIGINAL-URL:https://www.yogasouthington.com
X-WR-CALDESC:Events for Soulspace Yoga and Wellness
BEGIN:VTIMEZONE
TZID:America/New_York
BEGIN:DAYLIGHT
TZOFFSETFROM:-0500
TZOFFSETTO:-0400
TZNAME:EDT
DTSTART:20240310T070000
END:DAYLIGHT
BEGIN:STANDARD
TZOFFSETFROM:-0400
TZOFFSETTO:-0500
TZNAME:EST
DTSTART:20241103T060000
END:STANDARD
END:VTIMEZONE
BEGIN:VEVENT
DTSTART;TZID=America/New_York:20240707T090000
DTEND;TZID=America/New_York:20240707T100000
DTSTAMP:20260423T104842
CREATED:20240701T134242Z
LAST-MODIFIED:20240701T134242Z
UID:24545-1720342800-1720346400@www.yogasouthington.com
SUMMARY:All Levels with Yannah 9am-10am
DESCRIPTION:Yannah Preta  **drop ins welcome**  Email me at: ypreta@live.com ($12 per class\, includes tax…cash or venmo). \n
URL:https://www.yogasouthington.com/event/all-levels-with-yannah-9am-10am-48/
LOCATION:Soulspace
END:VEVENT
BEGIN:VEVENT
DTSTART;TZID=America/New_York:20240707T103000
DTEND;TZID=America/New_York:20240707T113000
DTSTAMP:20260423T104842
CREATED:20240701T133307Z
LAST-MODIFIED:20240701T133307Z
UID:24533-1720348200-1720351800@www.yogasouthington.com
SUMMARY:Prenatal Yoga with Molly 10:30am-11:30am
DESCRIPTION:Molly Weyers  ** pre-registration required **\nEmail me at: peacefulandprenatal@gmail.com.   To register for classes please visit my website: www.peacefulandprenatal.com \n
URL:https://www.yogasouthington.com/event/prenatal-yoga-with-molly-1030am-1130am/
LOCATION:Soulspace
END:VEVENT
END:VCALENDAR