BEGIN:VCALENDAR
VERSION:2.0
PRODID:-//Soulspace Yoga and Wellness - ECPv4.9.9//NONSGML v1.0//EN
CALSCALE:GREGORIAN
METHOD:PUBLISH
X-WR-CALNAME:Soulspace Yoga and Wellness
X-ORIGINAL-URL:https://www.yogasouthington.com
X-WR-CALDESC:Events for Soulspace Yoga and Wellness
BEGIN:VTIMEZONE
TZID:America/New_York
BEGIN:DAYLIGHT
TZOFFSETFROM:-0500
TZOFFSETTO:-0400
TZNAME:EDT
DTSTART:20240310T070000
END:DAYLIGHT
BEGIN:STANDARD
TZOFFSETFROM:-0400
TZOFFSETTO:-0500
TZNAME:EST
DTSTART:20241103T060000
END:STANDARD
END:VTIMEZONE
BEGIN:VEVENT
DTSTART;TZID=America/New_York:20240701T100000
DTEND;TZID=America/New_York:20240701T104500
DTSTAMP:20260423T093758
CREATED:20240701T133011Z
LAST-MODIFIED:20240701T133037Z
UID:24526-1719828000-1719830700@www.yogasouthington.com
SUMMARY:Baby & Me (6wks to 8mths) with Molly 10am-10:45am
DESCRIPTION:Molly Weyers  ** pre-registration required **\nEmail me at: peacefulandprenatal@gmail.com.   To register for classes please visit my website: www.peacefulandprenatal.com \n
URL:https://www.yogasouthington.com/event/baby-me-with-molly-10am-1045am-51/
LOCATION:Soulspace
END:VEVENT
BEGIN:VEVENT
DTSTART;TZID=America/New_York:20240701T111500
DTEND;TZID=America/New_York:20240701T120000
DTSTAMP:20260423T093758
CREATED:20240701T133121Z
LAST-MODIFIED:20240701T133121Z
UID:24529-1719832500-1719835200@www.yogasouthington.com
SUMMARY:Baby & Me (9mths to 18mths) with Molly 11:15am-12pm
DESCRIPTION:Molly Weyers  ** pre-registration required **\nEmail me at: peacefulandprenatal@gmail.com.   To register for classes please visit my website: www.peacefulandprenatal.com \n
URL:https://www.yogasouthington.com/event/baby-me-9mths-to-18mths-with-molly-1115am-12pm-6/
LOCATION:Soulspace
END:VEVENT
BEGIN:VEVENT
DTSTART;TZID=America/New_York:20240701T163000
DTEND;TZID=America/New_York:20240701T174500
DTSTAMP:20260423T093758
CREATED:20240701T133451Z
LAST-MODIFIED:20240701T133451Z
UID:24535-1719851400-1719855900@www.yogasouthington.com
SUMMARY:Chakra Flow (All Levels) with Brandi 4:30pm-5:45pm
DESCRIPTION:Brandi Kilbourne **drop ins welcome**                                                                                                                                                                                                    Email me at:  yourcoach@fitnulife.com  Text my Google voice # 347-619-3698  My website:  https://www.infinitegrowthclub.com \n
URL:https://www.yogasouthington.com/event/chakra-flow-all-levels-with-brandi-430pm-545pm-7/
LOCATION:Soulspace
END:VEVENT
END:VCALENDAR