BEGIN:VCALENDAR
VERSION:2.0
PRODID:-//Soulspace Yoga and Wellness - ECPv4.9.9//NONSGML v1.0//EN
CALSCALE:GREGORIAN
METHOD:PUBLISH
X-WR-CALNAME:Soulspace Yoga and Wellness
X-ORIGINAL-URL:https://www.yogasouthington.com
X-WR-CALDESC:Events for Soulspace Yoga and Wellness
BEGIN:VTIMEZONE
TZID:America/New_York
BEGIN:DAYLIGHT
TZOFFSETFROM:-0500
TZOFFSETTO:-0400
TZNAME:EDT
DTSTART:20240310T070000
END:DAYLIGHT
BEGIN:STANDARD
TZOFFSETFROM:-0400
TZOFFSETTO:-0500
TZNAME:EST
DTSTART:20241103T060000
END:STANDARD
END:VTIMEZONE
BEGIN:VEVENT
DTSTART;TZID=America/New_York:20240605T100000
DTEND;TZID=America/New_York:20240605T104500
DTSTAMP:20260423T093824
CREATED:20240602T141808Z
LAST-MODIFIED:20240602T141808Z
UID:24455-1717581600-1717584300@www.yogasouthington.com
SUMMARY:Postpartum Yoga with Molly 10am-10:45am
DESCRIPTION:Molly Weyers  ** pre-registration required **\nEmail me at: peacefulandprenatal@gmail.com.   To register for classes please visit my website: www.peacefulandprenatal.com. \n
URL:https://www.yogasouthington.com/event/postpartum-yoga-with-molly-10am-1045am-16/
LOCATION:Soulspace
END:VEVENT
BEGIN:VEVENT
DTSTART;TZID=America/New_York:20240605T163000
DTEND;TZID=America/New_York:20240605T174500
DTSTAMP:20260423T093824
CREATED:20240602T142254Z
LAST-MODIFIED:20240602T142637Z
UID:24461-1717605000-1717609500@www.yogasouthington.com
SUMMARY:Chakra Flow (All Levels) with Brandi 4:30pm-5:45pm
DESCRIPTION:Brandi Kilbourne **drop ins welcome**                                                                                                                                                                                                      Email me at:  Yourcoach@fitnulife.com or text my Google voice # 347-619-3698 \n
URL:https://www.yogasouthington.com/event/chakra-flow-with-brandi-430pm-545pm-2/
LOCATION:Soulspace
END:VEVENT
END:VCALENDAR