BEGIN:VCALENDAR
VERSION:2.0
PRODID:-//Soulspace Yoga and Wellness - ECPv4.9.9//NONSGML v1.0//EN
CALSCALE:GREGORIAN
METHOD:PUBLISH
X-WR-CALNAME:Soulspace Yoga and Wellness
X-ORIGINAL-URL:https://www.yogasouthington.com
X-WR-CALDESC:Events for Soulspace Yoga and Wellness
BEGIN:VTIMEZONE
TZID:America/New_York
BEGIN:DAYLIGHT
TZOFFSETFROM:-0500
TZOFFSETTO:-0400
TZNAME:EDT
DTSTART:20240310T070000
END:DAYLIGHT
BEGIN:STANDARD
TZOFFSETFROM:-0400
TZOFFSETTO:-0500
TZNAME:EST
DTSTART:20241103T060000
END:STANDARD
END:VTIMEZONE
BEGIN:VEVENT
DTSTART;TZID=America/New_York:20240229T100000
DTEND;TZID=America/New_York:20240229T111500
DTSTAMP:20260424T095456
CREATED:20240131T192530Z
LAST-MODIFIED:20240131T192530Z
UID:23870-1709200800-1709205300@www.yogasouthington.com
SUMMARY:Yoga for Back Health with Sheila 10am-11:15am
DESCRIPTION:Sheila Huard ** pre registration required **\nEmail me at:   The Natural Path\, southingtonyoga@yahoo.com   Phone: (860) 384-2840  For more information southingtonyoga.com/in-person-yoga-classes   (Six week session $75… includes tax. ) \n
URL:https://www.yogasouthington.com/event/yoga-for-back-health-with-sheila-10am-1115am-17/
LOCATION:Soulspace
END:VEVENT
BEGIN:VEVENT
DTSTART;TZID=America/New_York:20240229T174500
DTEND;TZID=America/New_York:20240229T184500
DTSTAMP:20260424T095456
CREATED:20240131T193310Z
LAST-MODIFIED:20240131T193310Z
UID:23889-1709228700-1709232300@www.yogasouthington.com
SUMMARY:Prenatal with Molly 5:45pm-6:45pm
DESCRIPTION:Molly Weyers  ** pre-registration required **\nEmail me at: peacefulandprenatal@gmail.com.   To register for classes please visit my website: www.peacefulandprenatal.com. \n
URL:https://www.yogasouthington.com/event/prenatal-with-molly-545pm-645pm-27/
LOCATION:Soulspace
END:VEVENT
END:VCALENDAR