BEGIN:VCALENDAR
VERSION:2.0
PRODID:-//Soulspace Yoga and Wellness - ECPv4.9.9//NONSGML v1.0//EN
CALSCALE:GREGORIAN
METHOD:PUBLISH
X-WR-CALNAME:Soulspace Yoga and Wellness
X-ORIGINAL-URL:https://www.yogasouthington.com
X-WR-CALDESC:Events for Soulspace Yoga and Wellness
BEGIN:VTIMEZONE
TZID:America/New_York
BEGIN:DAYLIGHT
TZOFFSETFROM:-0500
TZOFFSETTO:-0400
TZNAME:EDT
DTSTART:20240310T070000
END:DAYLIGHT
BEGIN:STANDARD
TZOFFSETFROM:-0400
TZOFFSETTO:-0500
TZNAME:EST
DTSTART:20241103T060000
END:STANDARD
END:VTIMEZONE
BEGIN:VEVENT
DTSTART;TZID=America/New_York:20240207T100000
DTEND;TZID=America/New_York:20240207T104500
DTSTAMP:20260422T140219
CREATED:20240131T204807Z
LAST-MODIFIED:20240131T204807Z
UID:23936-1707300000-1707302700@www.yogasouthington.com
SUMMARY:Postpartum Yoga with Molly 10am-10:45am
DESCRIPTION:Molly Weyers  ** pre-registration required **\nEmail me at: peacefulandprenatal@gmail.com.   To register for classes please visit my website: www.peacefulandprenatal.com. \n
URL:https://www.yogasouthington.com/event/postpartum-yoga-with-molly-10am-1045am/
LOCATION:Soulspace
END:VEVENT
BEGIN:VEVENT
DTSTART;TZID=America/New_York:20240207T180000
DTEND;TZID=America/New_York:20240207T190000
DTSTAMP:20260422T140219
CREATED:20240131T194043Z
LAST-MODIFIED:20240131T194043Z
UID:23901-1707328800-1707332400@www.yogasouthington.com
SUMMARY:Restorative Yin (all levels) with Yannah 6pm-7pm
DESCRIPTION:Yannah Preta  **drop ins welcome**  Email me at: ypreta@live.com ($12 per class\, includes tax…cash or venmo). \n
URL:https://www.yogasouthington.com/event/restorative-yin-all-levels-with-yannah-6pm-7pm/
LOCATION:Soulspace
END:VEVENT
END:VCALENDAR