BEGIN:VCALENDAR
VERSION:2.0
PRODID:-//Soulspace Yoga and Wellness - ECPv4.9.9//NONSGML v1.0//EN
CALSCALE:GREGORIAN
METHOD:PUBLISH
X-WR-CALNAME:Soulspace Yoga and Wellness
X-ORIGINAL-URL:https://www.yogasouthington.com
X-WR-CALDESC:Events for Soulspace Yoga and Wellness
BEGIN:VTIMEZONE
TZID:America/New_York
BEGIN:DAYLIGHT
TZOFFSETFROM:-0500
TZOFFSETTO:-0400
TZNAME:EDT
DTSTART:20230312T070000
END:DAYLIGHT
BEGIN:STANDARD
TZOFFSETFROM:-0400
TZOFFSETTO:-0500
TZNAME:EST
DTSTART:20231105T060000
END:STANDARD
END:VTIMEZONE
BEGIN:VEVENT
DTSTART;TZID=America/New_York:20230816T113000
DTEND;TZID=America/New_York:20230816T124500
DTSTAMP:20260422T180237
CREATED:20230802T175840Z
LAST-MODIFIED:20230802T180459Z
UID:23132-1692185400-1692189900@www.yogasouthington.com
SUMMARY:Private 11:30am-12:45pm
DESCRIPTION:Mary Rinaldi ** drop ins welcome **\nEmail me at:   maryrinaldiyoga@gmail.com.   Phone: (203) 640-2231.  ($15 drop in\, includes tax / first class $10). I am available for private lessons\, individuals & groups. \n
URL:https://www.yogasouthington.com/event/private-1130am-1245pm/
LOCATION:Soulspace
END:VEVENT
BEGIN:VEVENT
DTSTART;TZID=America/New_York:20230816T144500
DTEND;TZID=America/New_York:20230816T160000
DTSTAMP:20260422T180237
CREATED:20230801T031021Z
LAST-MODIFIED:20230801T031021Z
UID:23120-1692197100-1692201600@www.yogasouthington.com
SUMMARY:Private 2:45pm-4pm
DESCRIPTION:Stephanie Wheelahan ** pre-registration required **\nEmail me at: nourishmindbodysoulct@gmail.com.   My Facebook and Instagram: @nourishmindbodysoulct. \n
URL:https://www.yogasouthington.com/event/private-245pm-4pm-9/
LOCATION:Soulspace
END:VEVENT
BEGIN:VEVENT
DTSTART;TZID=America/New_York:20230816T173000
DTEND;TZID=America/New_York:20230816T183000
DTSTAMP:20260422T180237
CREATED:20230801T030747Z
LAST-MODIFIED:20230801T030747Z
UID:23114-1692207000-1692210600@www.yogasouthington.com
SUMMARY:Slow Flow with Nancy 5:30pm-6:30pm
DESCRIPTION:Nancy Boudreau ** drop ins welcome **\nVisit my website:   www.nancyboudreau.com.   Email me at:   Nancy@Nancyboudreau.com. (pre register $10/class…drop ins $15/class) \n
URL:https://www.yogasouthington.com/event/slow-flow-with-nancy-530pm-630pm-15/
LOCATION:Soulspace
END:VEVENT
END:VCALENDAR