BEGIN:VCALENDAR
VERSION:2.0
PRODID:-//Soulspace Yoga and Wellness - ECPv4.9.9//NONSGML v1.0//EN
CALSCALE:GREGORIAN
METHOD:PUBLISH
X-WR-CALNAME:Soulspace Yoga and Wellness
X-ORIGINAL-URL:https://www.yogasouthington.com
X-WR-CALDESC:Events for Soulspace Yoga and Wellness
BEGIN:VTIMEZONE
TZID:America/New_York
BEGIN:DAYLIGHT
TZOFFSETFROM:-0500
TZOFFSETTO:-0400
TZNAME:EDT
DTSTART:20230312T070000
END:DAYLIGHT
BEGIN:STANDARD
TZOFFSETFROM:-0400
TZOFFSETTO:-0500
TZNAME:EST
DTSTART:20231105T060000
END:STANDARD
END:VTIMEZONE
BEGIN:VEVENT
DTSTART;TZID=America/New_York:20230802T090000
DTEND;TZID=America/New_York:20230802T101500
DTSTAMP:20260421T192322
CREATED:20230801T022947Z
LAST-MODIFIED:20230801T022947Z
UID:23032-1690966800-1690971300@www.yogasouthington.com
SUMMARY:Warrior Wednesday with Amy 9am-10:15am
DESCRIPTION:Amy Inzero  ** Ask about a free class with purchase of 6 week series **\nEmail me at:   AmyInzero@cox.net   ($15/per class\, includes tax).   Visit my Facebook Page:   Serenity Saturdays Facebook \n
URL:https://www.yogasouthington.com/event/warrior-wednesday-with-amy-9am-1015am-6/
LOCATION:Soulspace
END:VEVENT
BEGIN:VEVENT
DTSTART;TZID=America/New_York:20230802T123000
DTEND;TZID=America/New_York:20230802T134500
DTSTAMP:20260421T192322
CREATED:20230801T023346Z
LAST-MODIFIED:20230801T023346Z
UID:23042-1690979400-1690983900@www.yogasouthington.com
SUMMARY:Private 12:30pm-1:45pm
DESCRIPTION:Mary Rinaldi ** drop ins welcome **\nEmail me at:   maryrinaldiyoga@gmail.com.   Phone: (203) 640-2231.  ($15 drop in\, includes tax / first class $10). I am available for private lessons\, individuals & groups. \n
URL:https://www.yogasouthington.com/event/private-1230pm-145pm/
LOCATION:Soulspace
END:VEVENT
BEGIN:VEVENT
DTSTART;TZID=America/New_York:20230802T173000
DTEND;TZID=America/New_York:20230802T183000
DTSTAMP:20260421T192322
CREATED:20230801T023653Z
LAST-MODIFIED:20230801T023653Z
UID:23048-1690997400-1691001000@www.yogasouthington.com
SUMMARY:Slow Flow with Phyllis 5:30pm-6:30pm
DESCRIPTION:Phyllis Powers ** drop ins  welcome…ask about a five class special **\nEmail me at:   peacefulyogacommunity@gmail.com   ($15 per class\, includes tax) \n
URL:https://www.yogasouthington.com/event/slow-flow-with-phyllis-530pm-630pm/
LOCATION:Soulspace
END:VEVENT
END:VCALENDAR