BEGIN:VCALENDAR
VERSION:2.0
PRODID:-//Soulspace Yoga and Wellness - ECPv4.9.9//NONSGML v1.0//EN
CALSCALE:GREGORIAN
METHOD:PUBLISH
X-WR-CALNAME:Soulspace Yoga and Wellness
X-ORIGINAL-URL:https://www.yogasouthington.com
X-WR-CALDESC:Events for Soulspace Yoga and Wellness
BEGIN:VTIMEZONE
TZID:America/New_York
BEGIN:DAYLIGHT
TZOFFSETFROM:-0500
TZOFFSETTO:-0400
TZNAME:EDT
DTSTART:20230312T070000
END:DAYLIGHT
BEGIN:STANDARD
TZOFFSETFROM:-0400
TZOFFSETTO:-0500
TZNAME:EST
DTSTART:20231105T060000
END:STANDARD
END:VTIMEZONE
BEGIN:VEVENT
DTSTART;TZID=America/New_York:20230730T090000
DTEND;TZID=America/New_York:20230730T100000
DTSTAMP:20260421T140839
CREATED:20230628T203655Z
LAST-MODIFIED:20230712T145814Z
UID:22857-1690707600-1690711200@www.yogasouthington.com
SUMMARY:All Levels with Karen 9am-10am
DESCRIPTION:  \nKaren Carollo ** drop ins welcome **\nVisit me on Facebook:   Karen Carollo Yoga/FaceBook.   Email me at:   karencarolloyoga@gmail.com   ($15/per class\, includes tax) \n
URL:https://www.yogasouthington.com/event/all-levels-with-yannah-9am-10am-11/
LOCATION:Soulspace
END:VEVENT
BEGIN:VEVENT
DTSTART;TZID=America/New_York:20230730T103000
DTEND;TZID=America/New_York:20230730T113000
DTSTAMP:20260421T140839
CREATED:20230628T204807Z
LAST-MODIFIED:20230628T204807Z
UID:22867-1690713000-1690716600@www.yogasouthington.com
SUMMARY:Prenatal with Molly 10:30am-11:30am
DESCRIPTION:Molly Weyers  ** pre-registration required **\nEmail me at: peacefulandprenatal@gmail.com.   To register for classes please visit my website: www.peacefulandprenatal.com. \n
URL:https://www.yogasouthington.com/event/prenatal-with-molly-1030am-1130am-31/
LOCATION:Soulspace
END:VEVENT
BEGIN:VEVENT
DTSTART;TZID=America/New_York:20230730T190000
DTEND;TZID=America/New_York:20230730T201500
DTSTAMP:20260421T140839
CREATED:20230628T210330Z
LAST-MODIFIED:20230725T121808Z
UID:22901-1690743600-1690748100@www.yogasouthington.com
SUMMARY:Form & Flow with Mary 7pm-8:15pm
DESCRIPTION:Mary Rinaldi ** drop ins welcome **\nEmail me at:   maryrinaldiyoga@gmail.com.   Phone: (203) 640-2231.  ($15 drop in\, includes tax / first class $10). I am available for private lessons\, individuals & groups. \n
URL:https://www.yogasouthington.com/event/form-flow-with-mary-7pm-815pm-3/
LOCATION:Soulspace
END:VEVENT
END:VCALENDAR