BEGIN:VCALENDAR
VERSION:2.0
PRODID:-//Soulspace Yoga and Wellness - ECPv4.9.9//NONSGML v1.0//EN
CALSCALE:GREGORIAN
METHOD:PUBLISH
X-WR-CALNAME:Soulspace Yoga and Wellness
X-ORIGINAL-URL:https://www.yogasouthington.com
X-WR-CALDESC:Events for Soulspace Yoga and Wellness
BEGIN:VTIMEZONE
TZID:America/New_York
BEGIN:DAYLIGHT
TZOFFSETFROM:-0500
TZOFFSETTO:-0400
TZNAME:EDT
DTSTART:20240310T070000
END:DAYLIGHT
BEGIN:STANDARD
TZOFFSETFROM:-0400
TZOFFSETTO:-0500
TZNAME:EST
DTSTART:20241103T060000
END:STANDARD
END:VTIMEZONE
BEGIN:VEVENT
DTSTART;TZID=America/New_York:20240224T103000
DTEND;TZID=America/New_York:20240224T123000
DTSTAMP:20260425T033016
CREATED:20240212T145152Z
LAST-MODIFIED:20240212T145152Z
UID:23981-1708770600-1708777800@www.yogasouthington.com
SUMMARY:Galentine's Yoga with Molly 10:30am-12:30pm
DESCRIPTION:Grab your Galentine and have them join you for a morning of loving movement. This two hour class includes a yoga flow\, snacks & time to connect in the community. One cost admits two people. Pre registration required. \n  \nMolly Weyers  ** pre-registration required **\nEmail me at: peacefulandprenatal@gmail.com.   To register for classes please visit my website: www.peacefulandprenatal.com. \n
URL:https://www.yogasouthington.com/event/galentines-yoga-with-molly-1030am-1230pm/
LOCATION:Soulspace
END:VEVENT
END:VCALENDAR