BEGIN:VCALENDAR
VERSION:2.0
PRODID:-//Soulspace Yoga and Wellness - ECPv4.9.9//NONSGML v1.0//EN
CALSCALE:GREGORIAN
METHOD:PUBLISH
X-WR-CALNAME:Soulspace Yoga and Wellness
X-ORIGINAL-URL:https://www.yogasouthington.com
X-WR-CALDESC:Events for Soulspace Yoga and Wellness
BEGIN:VTIMEZONE
TZID:America/New_York
BEGIN:DAYLIGHT
TZOFFSETFROM:-0500
TZOFFSETTO:-0400
TZNAME:EDT
DTSTART:20210314T070000
END:DAYLIGHT
BEGIN:STANDARD
TZOFFSETFROM:-0400
TZOFFSETTO:-0500
TZNAME:EST
DTSTART:20211107T060000
END:STANDARD
END:VTIMEZONE
BEGIN:VEVENT
DTSTART;TZID=America/New_York:20210425T080000
DTEND;TZID=America/New_York:20210425T090000
DTSTAMP:20260423T215459
CREATED:20210323T002517Z
LAST-MODIFIED:20210323T002517Z
UID:17450-1619337600-1619341200@www.yogasouthington.com
SUMMARY:8-9am ONLINE Gentle Flow Yoga with Amy I
DESCRIPTION:
URL:https://www.yogasouthington.com/event/8-9am-online-gentle-flow-yoga-with-amy-i/
LOCATION:Soulspace
END:VEVENT
END:VCALENDAR