BEGIN:VCALENDAR
VERSION:2.0
PRODID:-//Soulspace Yoga and Wellness - ECPv4.9.9//NONSGML v1.0//EN
CALSCALE:GREGORIAN
METHOD:PUBLISH
X-WR-CALNAME:Soulspace Yoga and Wellness
X-ORIGINAL-URL:https://www.yogasouthington.com
X-WR-CALDESC:Events for Soulspace Yoga and Wellness
BEGIN:VTIMEZONE
TZID:America/New_York
BEGIN:DAYLIGHT
TZOFFSETFROM:-0500
TZOFFSETTO:-0400
TZNAME:EDT
DTSTART:20210314T070000
END:DAYLIGHT
BEGIN:STANDARD
TZOFFSETFROM:-0400
TZOFFSETTO:-0500
TZNAME:EST
DTSTART:20211107T060000
END:STANDARD
END:VTIMEZONE
BEGIN:VEVENT
DTSTART;TZID=America/New_York:20210729T180000
DTEND;TZID=America/New_York:20210729T191500
DTSTAMP:20260425T204616
CREATED:20210628T151317Z
LAST-MODIFIED:20210628T160551Z
UID:19235-1627581600-1627586100@www.yogasouthington.com
SUMMARY:6-7:15pm Yin Yoga with Amy I
DESCRIPTION:this will be part of a series of classes that can be taken solely or in the series’ entirety. Regular class fees apply. \n
URL:https://www.yogasouthington.com/event/6-7pm-gentle-chakra-flow-class-with-jess-j-2021-07-29/
LOCATION:Soulspace
END:VEVENT
END:VCALENDAR