BEGIN:VCALENDAR
VERSION:2.0
PRODID:-//Soulspace Yoga and Wellness - ECPv4.9.9//NONSGML v1.0//EN
CALSCALE:GREGORIAN
METHOD:PUBLISH
X-WR-CALNAME:Soulspace Yoga and Wellness
X-ORIGINAL-URL:http://www.yogasouthington.com
X-WR-CALDESC:Events for Soulspace Yoga and Wellness
BEGIN:VTIMEZONE
TZID:America/New_York
BEGIN:DAYLIGHT
TZOFFSETFROM:-0500
TZOFFSETTO:-0400
TZNAME:EDT
DTSTART:20260308T070000
END:DAYLIGHT
BEGIN:STANDARD
TZOFFSETFROM:-0400
TZOFFSETTO:-0500
TZNAME:EST
DTSTART:20261101T060000
END:STANDARD
END:VTIMEZONE
BEGIN:VEVENT
DTSTART;TZID=America/New_York:20260215T100000
DTEND;TZID=America/New_York:20260215T110000
DTSTAMP:20260421T075224
CREATED:20260213T121159Z
LAST-MODIFIED:20260213T121159Z
UID:25880-1771149600-1771153200@www.yogasouthington.com
SUMMARY:All Levels with Yannah 10am-11am
DESCRIPTION:Yannah Preta  **drop ins welcome**  Email me at: ypreta@live.com ($15 per class\, includes tax…cash or venmo) \n
URL:http://www.yogasouthington.com/event/all-levels-with-yannah-10am-11am-29/
LOCATION:Soulspace
END:VEVENT
BEGIN:VEVENT
DTSTART;TZID=America/New_York:20260215T140000
DTEND;TZID=America/New_York:20260215T153000
DTSTAMP:20260421T075224
CREATED:20260213T122124Z
LAST-MODIFIED:20260213T122124Z
UID:25894-1771164000-1771169400@www.yogasouthington.com
SUMMARY:Private Yoga Lesson with Suzanna 2pm-3:30pm
DESCRIPTION:Suzanna Poplawski\nEmail me at: Poplawskisuz@gmail.com.  Suzanna is also a licensed massage therapist and offers sessions at the studio. \n
URL:http://www.yogasouthington.com/event/private-yoga-lesson-with-suzanna-2pm-330pm/
LOCATION:Soulspace
END:VEVENT
END:VCALENDAR