BEGIN:VCALENDAR
VERSION:2.0
PRODID:-//Soulspace Yoga and Wellness - ECPv4.9.9//NONSGML v1.0//EN
CALSCALE:GREGORIAN
METHOD:PUBLISH
X-WR-CALNAME:Soulspace Yoga and Wellness
X-ORIGINAL-URL:http://www.yogasouthington.com
X-WR-CALDESC:Events for Soulspace Yoga and Wellness
BEGIN:VTIMEZONE
TZID:America/New_York
BEGIN:DAYLIGHT
TZOFFSETFROM:-0500
TZOFFSETTO:-0400
TZNAME:EDT
DTSTART:20150308T070000
END:DAYLIGHT
BEGIN:STANDARD
TZOFFSETFROM:-0400
TZOFFSETTO:-0500
TZNAME:EST
DTSTART:20151101T060000
END:STANDARD
END:VTIMEZONE
BEGIN:VEVENT
DTSTART;TZID=America/New_York:20150718T080000
DTEND;TZID=America/New_York:20150718T091500
DTSTAMP:20260420T090220
CREATED:20150622T152107Z
LAST-MODIFIED:20150713T044958Z
UID:1754-1437206400-1437210900@www.yogasouthington.com
SUMMARY:8am All Levels Flow Yoga with Shelley
DESCRIPTION:
URL:http://www.yogasouthington.com/event/8am-all-levels-flow-yoga-with-crystal-3/
END:VEVENT
BEGIN:VEVENT
DTSTART;TZID=America/New_York:20150718T080000
DTEND;TZID=America/New_York:20150718T150000
DTSTAMP:20260420T090220
CREATED:20150622T160543Z
LAST-MODIFIED:20150622T160543Z
UID:1796-1437206400-1437231600@www.yogasouthington.com
SUMMARY:8-3:00pm CrossRoads 200 HR YTT Weekend Program
DESCRIPTION:
URL:http://www.yogasouthington.com/event/8-300pm-crossroads-200-hr-ytt-weekend-program/2015-07-18/
END:VEVENT
END:VCALENDAR