BEGIN:VCALENDAR
VERSION:2.0
PRODID:-//Soulspace Yoga and Wellness - ECPv4.9.9//NONSGML v1.0//EN
CALSCALE:GREGORIAN
METHOD:PUBLISH
X-WR-CALNAME:Soulspace Yoga and Wellness
X-ORIGINAL-URL:http://www.yogasouthington.com
X-WR-CALDESC:Events for Soulspace Yoga and Wellness
BEGIN:VTIMEZONE
TZID:America/New_York
BEGIN:DAYLIGHT
TZOFFSETFROM:-0500
TZOFFSETTO:-0400
TZNAME:EDT
DTSTART:20150308T070000
END:DAYLIGHT
BEGIN:STANDARD
TZOFFSETFROM:-0400
TZOFFSETTO:-0500
TZNAME:EST
DTSTART:20151101T060000
END:STANDARD
END:VTIMEZONE
BEGIN:VEVENT
DTSTART;TZID=America/New_York:20150707T093000
DTEND;TZID=America/New_York:20150707T104500
DTSTAMP:20260420T085949
CREATED:20150621T054642Z
LAST-MODIFIED:20151229T161128Z
UID:656-1436261400-1436265900@www.yogasouthington.com
SUMMARY:9:30am Gentle Yoga with Crystal//Optional 15 Minute Meditation 10:45-11am
DESCRIPTION:
URL:http://www.yogasouthington.com/event/930am-gentle-yoga-with-crystal-11/2015-07-07/
END:VEVENT
BEGIN:VEVENT
DTSTART;TZID=America/New_York:20150707T180000
DTEND;TZID=America/New_York:20150707T191500
DTSTAMP:20260420T085949
CREATED:20150621T060212Z
LAST-MODIFIED:20150722T205357Z
UID:1076-1436292000-1436296500@www.yogasouthington.com
SUMMARY:6pm Hot Yoga with Dawn
DESCRIPTION:
URL:http://www.yogasouthington.com/event/6pm-hot-yoga-with-dawn-10/2015-07-07/
END:VEVENT
BEGIN:VEVENT
DTSTART;TZID=America/New_York:20150707T193000
DTEND;TZID=America/New_York:20150707T204500
DTSTAMP:20260420T085949
CREATED:20150621T060335Z
LAST-MODIFIED:20150826T003259Z
UID:1179-1436297400-1436301900@www.yogasouthington.com
SUMMARY:7:30pm All Levels Yoga
DESCRIPTION:Jess 8/25 \n
URL:http://www.yogasouthington.com/event/730-all-levels-yoga/2015-07-07/
END:VEVENT
END:VCALENDAR