BEGIN:VCALENDAR
VERSION:2.0
PRODID:-//Soulspace Yoga and Wellness - ECPv4.9.9//NONSGML v1.0//EN
CALSCALE:GREGORIAN
METHOD:PUBLISH
X-WR-CALNAME:Soulspace Yoga and Wellness
X-ORIGINAL-URL:http://www.yogasouthington.com
X-WR-CALDESC:Events for Soulspace Yoga and Wellness
BEGIN:VTIMEZONE
TZID:America/New_York
BEGIN:DAYLIGHT
TZOFFSETFROM:-0500
TZOFFSETTO:-0400
TZNAME:EDT
DTSTART:20150308T070000
END:DAYLIGHT
BEGIN:STANDARD
TZOFFSETFROM:-0400
TZOFFSETTO:-0500
TZNAME:EST
DTSTART:20151101T060000
END:STANDARD
END:VTIMEZONE
BEGIN:VEVENT
DTSTART;TZID=America/New_York:20150629T080000
DTEND;TZID=America/New_York:20150629T091500
DTSTAMP:20260420T085931
CREATED:20150604T231032Z
LAST-MODIFIED:20150628T231330Z
UID:383-1435564800-1435569300@www.yogasouthington.com
SUMMARY:8am All Levels Yoga with Crystal
DESCRIPTION:
URL:http://www.yogasouthington.com/event/8am-all-levels-yoga-with-shelley-14/
LOCATION:Soulspace
END:VEVENT
BEGIN:VEVENT
DTSTART;TZID=America/New_York:20150629T080000
DTEND;TZID=America/New_York:20150629T150000
DTSTAMP:20260420T085931
CREATED:20150622T142546Z
LAST-MODIFIED:20150622T142546Z
UID:1717-1435564800-1435590000@www.yogasouthington.com
SUMMARY:8-3:00pm CrossRoads 200 HR YTT: Summer Intensive
DESCRIPTION:
URL:http://www.yogasouthington.com/event/8-300pm-crossroads-200-hr-ytt-summer-intensive-4/2015-06-29/
END:VEVENT
BEGIN:VEVENT
DTSTART;TZID=America/New_York:20150629T180000
DTEND;TZID=America/New_York:20150629T191500
DTSTAMP:20260420T085931
CREATED:20150604T231112Z
LAST-MODIFIED:20150617T002107Z
UID:384-1435600800-1435605300@www.yogasouthington.com
SUMMARY:6pm Gentle Yoga with Lisa
DESCRIPTION:
URL:http://www.yogasouthington.com/event/6pm-gentle-yoga-with-lisa-15/
LOCATION:Soulspace
END:VEVENT
BEGIN:VEVENT
DTSTART;TZID=America/New_York:20150629T193000
DTEND;TZID=America/New_York:20150629T204500
DTSTAMP:20260420T085931
CREATED:20150602T004110Z
LAST-MODIFIED:20150617T002150Z
UID:301-1435606200-1435610700@www.yogasouthington.com
SUMMARY:7:30pm All Levels Yoga with Karen
DESCRIPTION:
URL:http://www.yogasouthington.com/event/730pm-all-levels-yoga-with-karen-4/
LOCATION:Soulspace
END:VEVENT
END:VCALENDAR