BEGIN:VCALENDAR
VERSION:2.0
PRODID:-//Soulspace Yoga and Wellness - ECPv4.9.9//NONSGML v1.0//EN
CALSCALE:GREGORIAN
METHOD:PUBLISH
X-WR-CALNAME:Soulspace Yoga and Wellness
X-ORIGINAL-URL:http://www.yogasouthington.com
X-WR-CALDESC:Events for Soulspace Yoga and Wellness
BEGIN:VTIMEZONE
TZID:America/New_York
BEGIN:DAYLIGHT
TZOFFSETFROM:-0500
TZOFFSETTO:-0400
TZNAME:EDT
DTSTART:20150308T070000
END:DAYLIGHT
BEGIN:STANDARD
TZOFFSETFROM:-0400
TZOFFSETTO:-0500
TZNAME:EST
DTSTART:20151101T060000
END:STANDARD
END:VTIMEZONE
BEGIN:VEVENT
DTSTART;TZID=America/New_York:20150626T080000
DTEND;TZID=America/New_York:20150626T091500
DTSTAMP:20260422T103814
CREATED:20150604T230754Z
LAST-MODIFIED:20150622T204840Z
UID:380-1435305600-1435310100@www.yogasouthington.com
SUMMARY:8am All Levels Yoga with Crystal
DESCRIPTION:
URL:http://www.yogasouthington.com/event/8am-all-levels-yoga-with-shelley-13/
LOCATION:Soulspace
END:VEVENT
BEGIN:VEVENT
DTSTART;TZID=America/New_York:20150626T170000
DTEND;TZID=America/New_York:20150626T210000
DTSTAMP:20260422T103814
CREATED:20150602T002720Z
LAST-MODIFIED:20150602T002720Z
UID:289-1435338000-1435352400@www.yogasouthington.com
SUMMARY:5-9pm Y12SR COMBINED TRAINING WITH NIKKI MYERS
DESCRIPTION:
URL:http://www.yogasouthington.com/event/5-9pm-y12sr-combined-training-with-nikki-myers-2/
LOCATION:Soulspace
END:VEVENT
END:VCALENDAR