BEGIN:VCALENDAR
VERSION:2.0
PRODID:-//Soulspace Yoga and Wellness - ECPv4.9.9//NONSGML v1.0//EN
CALSCALE:GREGORIAN
METHOD:PUBLISH
X-WR-CALNAME:Soulspace Yoga and Wellness
X-ORIGINAL-URL:http://www.yogasouthington.com
X-WR-CALDESC:Events for Soulspace Yoga and Wellness
BEGIN:VTIMEZONE
TZID:America/New_York
BEGIN:DAYLIGHT
TZOFFSETFROM:-0500
TZOFFSETTO:-0400
TZNAME:EDT
DTSTART:20150308T070000
END:DAYLIGHT
BEGIN:STANDARD
TZOFFSETFROM:-0400
TZOFFSETTO:-0500
TZNAME:EST
DTSTART:20151101T060000
END:STANDARD
END:VTIMEZONE
BEGIN:VEVENT
DTSTART;TZID=America/New_York:20150512T093000
DTEND;TZID=America/New_York:20150512T100000
DTSTAMP:20260421T150354
CREATED:20150529T234619Z
LAST-MODIFIED:20150529T234619Z
UID:166-1431423000-1431424800@www.yogasouthington.com
SUMMARY:9:30am Gentle Yoga with Crystal
DESCRIPTION:
URL:http://www.yogasouthington.com/event/930am-gentle-yoga-with-crystal-2/
LOCATION:Soulspace
END:VEVENT
BEGIN:VEVENT
DTSTART;TZID=America/New_York:20150512T104500
DTEND;TZID=America/New_York:20150512T110000
DTSTAMP:20260421T150354
CREATED:20150529T234655Z
LAST-MODIFIED:20150529T234655Z
UID:167-1431427500-1431428400@www.yogasouthington.com
SUMMARY:10:45am Free 15 minute meditation
DESCRIPTION:
URL:http://www.yogasouthington.com/event/1045am-free-15-minute-meditation-2/
LOCATION:Soulspace
END:VEVENT
BEGIN:VEVENT
DTSTART;TZID=America/New_York:20150512T180000
DTEND;TZID=America/New_York:20150512T190000
DTSTAMP:20260421T150354
CREATED:20150529T234720Z
LAST-MODIFIED:20150529T234720Z
UID:168-1431453600-1431457200@www.yogasouthington.com
SUMMARY:6pm Hot Power Flow with Dawn
DESCRIPTION:
URL:http://www.yogasouthington.com/event/6pm-hot-power-flow-with-dawn/
LOCATION:Soulspace
END:VEVENT
BEGIN:VEVENT
DTSTART;TZID=America/New_York:20150512T193000
DTEND;TZID=America/New_York:20150512T200000
DTSTAMP:20260421T150354
CREATED:20150529T234751Z
LAST-MODIFIED:20150529T234751Z
UID:169-1431459000-1431460800@www.yogasouthington.com
SUMMARY:7:30pm All Levels Yoga with Jess
DESCRIPTION:
URL:http://www.yogasouthington.com/event/730pm-all-levels-yoga-with-jess/
LOCATION:Soulspace
END:VEVENT
END:VCALENDAR