BEGIN:VCALENDAR
VERSION:2.0
PRODID:-//Soulspace Yoga and Wellness - ECPv4.9.9//NONSGML v1.0//EN
CALSCALE:GREGORIAN
METHOD:PUBLISH
X-WR-CALNAME:Soulspace Yoga and Wellness
X-ORIGINAL-URL:http://www.yogasouthington.com
X-WR-CALDESC:Events for Soulspace Yoga and Wellness
BEGIN:VTIMEZONE
TZID:America/New_York
BEGIN:DAYLIGHT
TZOFFSETFROM:-0500
TZOFFSETTO:-0400
TZNAME:EDT
DTSTART:20150308T070000
END:DAYLIGHT
BEGIN:STANDARD
TZOFFSETFROM:-0400
TZOFFSETTO:-0500
TZNAME:EST
DTSTART:20151101T060000
END:STANDARD
END:VTIMEZONE
BEGIN:VEVENT
DTSTART;TZID=America/New_York:20150509T080000
DTEND;TZID=America/New_York:20150509T210000
DTSTAMP:20260421T194557
CREATED:20150529T233736Z
LAST-MODIFIED:20150529T233736Z
UID:157-1431158400-1431205200@www.yogasouthington.com
SUMMARY:8am All Levels Yoga with Kathy
DESCRIPTION:
URL:http://www.yogasouthington.com/event/8am-all-levels-yoga-with-kathy/
LOCATION:Soulspace
END:VEVENT
BEGIN:VEVENT
DTSTART;TZID=America/New_York:20150509T093000
DTEND;TZID=America/New_York:20150509T100000
DTSTAMP:20260421T194557
CREATED:20150529T233810Z
LAST-MODIFIED:20150529T233810Z
UID:158-1431163800-1431165600@www.yogasouthington.com
SUMMARY:9:30am Power Yoga with Alicia
DESCRIPTION:
URL:http://www.yogasouthington.com/event/930am-power-yoga-with-alicia/
LOCATION:Soulspace
END:VEVENT
BEGIN:VEVENT
DTSTART;TZID=America/New_York:20150509T230000
DTEND;TZID=America/New_York:20150509T230000
DTSTAMP:20260421T194557
CREATED:20150529T233857Z
LAST-MODIFIED:20150529T233857Z
UID:159-1431212400-1431212400@www.yogasouthington.com
SUMMARY:11:00-12:30pm Birthing Partner Prenatal Workshop with Lucia
DESCRIPTION:
URL:http://www.yogasouthington.com/event/1100-1230pm-birthing-partner-prenatal-workshop-with-lucia/
LOCATION:Soulspace
END:VEVENT
END:VCALENDAR