BEGIN:VCALENDAR
VERSION:2.0
PRODID:-//Soulspace Yoga and Wellness - ECPv4.9.9//NONSGML v1.0//EN
CALSCALE:GREGORIAN
METHOD:PUBLISH
X-WR-CALNAME:Soulspace Yoga and Wellness
X-ORIGINAL-URL:http://www.yogasouthington.com
X-WR-CALDESC:Events for Soulspace Yoga and Wellness
BEGIN:VTIMEZONE
TZID:America/New_York
BEGIN:DAYLIGHT
TZOFFSETFROM:-0500
TZOFFSETTO:-0400
TZNAME:EDT
DTSTART:20150308T070000
END:DAYLIGHT
BEGIN:STANDARD
TZOFFSETFROM:-0400
TZOFFSETTO:-0500
TZNAME:EST
DTSTART:20151101T060000
END:STANDARD
END:VTIMEZONE
BEGIN:VEVENT
DTSTART;TZID=America/New_York:20150508T080000
DTEND;TZID=America/New_York:20150508T210000
DTSTAMP:20260421T212708
CREATED:20150529T233627Z
LAST-MODIFIED:20150529T234239Z
UID:155-1431072000-1431118800@www.yogasouthington.com
SUMMARY:8am All Levels Yoga with Shelley
DESCRIPTION:
URL:http://www.yogasouthington.com/event/8am-all-levels-yoga-with-shelley-3/
LOCATION:Soulspace
END:VEVENT
BEGIN:VEVENT
DTSTART;TZID=America/New_York:20150508T180000
DTEND;TZID=America/New_York:20150508T193000
DTSTAMP:20260421T212708
CREATED:20150529T233708Z
LAST-MODIFIED:20150529T234319Z
UID:156-1431108000-1431113400@www.yogasouthington.com
SUMMARY:6-7:30pm Yocovery with Cheryl
DESCRIPTION:
URL:http://www.yogasouthington.com/event/6-730pm-yocovery-with-cheryl/
LOCATION:Soulspace
END:VEVENT
END:VCALENDAR