BEGIN:VCALENDAR
VERSION:2.0
PRODID:-//Soulspace Yoga and Wellness - ECPv4.9.9//NONSGML v1.0//EN
CALSCALE:GREGORIAN
METHOD:PUBLISH
X-WR-CALNAME:Soulspace Yoga and Wellness
X-ORIGINAL-URL:http://www.yogasouthington.com
X-WR-CALDESC:Events for Soulspace Yoga and Wellness
BEGIN:VTIMEZONE
TZID:America/New_York
BEGIN:DAYLIGHT
TZOFFSETFROM:-0500
TZOFFSETTO:-0400
TZNAME:EDT
DTSTART:20150308T070000
END:DAYLIGHT
BEGIN:STANDARD
TZOFFSETFROM:-0400
TZOFFSETTO:-0500
TZNAME:EST
DTSTART:20151101T060000
END:STANDARD
END:VTIMEZONE
BEGIN:VEVENT
DTSTART;TZID=America/New_York:20150502T080000
DTEND;TZID=America/New_York:20150502T120000
DTSTAMP:20260422T073427
CREATED:20150529T231932Z
LAST-MODIFIED:20150529T231932Z
UID:132-1430553600-1430568000@www.yogasouthington.com
SUMMARY:8am All Levels Flow Yoga with Alicia
DESCRIPTION:
URL:http://www.yogasouthington.com/event/8am-all-levels-flow-yoga-with-alicia/
LOCATION:Soulspace
END:VEVENT
BEGIN:VEVENT
DTSTART;TZID=America/New_York:20150502T093000
DTEND;TZID=America/New_York:20150502T110000
DTSTAMP:20260422T073427
CREATED:20150529T232016Z
LAST-MODIFIED:20150529T232016Z
UID:133-1430559000-1430564400@www.yogasouthington.com
SUMMARY:9:30am Power Yoga with Christin
DESCRIPTION:
URL:http://www.yogasouthington.com/event/930am-power-yoga-with-christin/
LOCATION:Soulspace
END:VEVENT
BEGIN:VEVENT
DTSTART;TZID=America/New_York:20150502T110000
DTEND;TZID=America/New_York:20150502T130000
DTSTAMP:20260422T073427
CREATED:20150529T232059Z
LAST-MODIFIED:20150529T232059Z
UID:134-1430564400-1430571600@www.yogasouthington.com
SUMMARY:11:00am Prenatal Yoga with Lucia
DESCRIPTION:
URL:http://www.yogasouthington.com/event/1100am-prenatal-yoga-with-lucia/
LOCATION:Soulspace
END:VEVENT
END:VCALENDAR