BEGIN:VCALENDAR
VERSION:2.0
PRODID:-//Soulspace Yoga and Wellness - ECPv4.9.9//NONSGML v1.0//EN
CALSCALE:GREGORIAN
METHOD:PUBLISH
X-WR-CALNAME:Soulspace Yoga and Wellness
X-ORIGINAL-URL:http://www.yogasouthington.com
X-WR-CALDESC:Events for Soulspace Yoga and Wellness
BEGIN:VTIMEZONE
TZID:America/New_York
BEGIN:DAYLIGHT
TZOFFSETFROM:-0500
TZOFFSETTO:-0400
TZNAME:EDT
DTSTART:20230312T070000
END:DAYLIGHT
BEGIN:STANDARD
TZOFFSETFROM:-0400
TZOFFSETTO:-0500
TZNAME:EST
DTSTART:20231105T060000
END:STANDARD
END:VTIMEZONE
BEGIN:VEVENT
DTSTART;TZID=America/New_York:20230308T173000
DTEND;TZID=America/New_York:20230308T184500
DTSTAMP:20260420T102312
CREATED:20230222T181026Z
LAST-MODIFIED:20230222T181026Z
UID:22114-1678296600-1678301100@www.yogasouthington.com
SUMMARY:Slow Flow with Nancy 5:30pm-6:45pm
DESCRIPTION:Nancy Boudreau *drop ins welcome**www.nancyboudreau.com/events  Nancy@Nancyboudreau.com  (pre register $10/class…drop ins $15/class) \n
URL:http://www.yogasouthington.com/event/slow-flow-with-nancy-530pm-645pm-23/
LOCATION:Soulspace
END:VEVENT
END:VCALENDAR