BEGIN:VCALENDAR
VERSION:2.0
PRODID:-//Soulspace Yoga and Wellness - ECPv4.9.9//NONSGML v1.0//EN
CALSCALE:GREGORIAN
METHOD:PUBLISH
X-WR-CALNAME:Soulspace Yoga and Wellness
X-ORIGINAL-URL:http://www.yogasouthington.com
X-WR-CALDESC:Events for Soulspace Yoga and Wellness
BEGIN:VTIMEZONE
TZID:UTC
BEGIN:STANDARD
TZOFFSETFROM:+0000
TZOFFSETTO:+0000
TZNAME:UTC
DTSTART:20160101T000000
END:STANDARD
END:VTIMEZONE
BEGIN:VEVENT
DTSTART;TZID=UTC:20160731T090000
DTEND;TZID=UTC:20160731T101500
DTSTAMP:20260420T070359
CREATED:20160630T025643Z
LAST-MODIFIED:20160630T031213Z
UID:4425-1469955600-1469960100@www.yogasouthington.com
SUMMARY:9am Intro to Yoga/ Gentle Yoga with Karen
DESCRIPTION:
URL:http://www.yogasouthington.com/event/9am-intro-yoga-gentle-yoga-2016-07-31/
END:VEVENT
END:VCALENDAR