BEGIN:VCALENDAR
VERSION:2.0
PRODID:-//Soulspace Yoga and Wellness - ECPv4.9.9//NONSGML v1.0//EN
CALSCALE:GREGORIAN
METHOD:PUBLISH
X-WR-CALNAME:Soulspace Yoga and Wellness
X-ORIGINAL-URL:http://www.yogasouthington.com
X-WR-CALDESC:Events for Soulspace Yoga and Wellness
BEGIN:VTIMEZONE
TZID:America/New_York
BEGIN:DAYLIGHT
TZOFFSETFROM:-0500
TZOFFSETTO:-0400
TZNAME:EDT
DTSTART:20150308T070000
END:DAYLIGHT
BEGIN:STANDARD
TZOFFSETFROM:-0400
TZOFFSETTO:-0500
TZNAME:EST
DTSTART:20151101T060000
END:STANDARD
END:VTIMEZONE
BEGIN:VEVENT
DTSTART;TZID=America/New_York:20150628T100000
DTEND;TZID=America/New_York:20150628T180000
DTSTAMP:20260424T110414
CREATED:20150602T002922Z
LAST-MODIFIED:20150602T002922Z
UID:292-1435485600-1435514400@www.yogasouthington.com
SUMMARY:10-6pm Y12SR COMBINED LEADERSHIP TRAINING WITH NIKKI MYERS
DESCRIPTION:
URL:http://www.yogasouthington.com/event/10-6pm-y12sr-combined-leadership-training-with-nikki-myers-2/
LOCATION:Soulspace
END:VEVENT
END:VCALENDAR